BEGIN:VCALENDAR
VERSION:2.0
PRODID:-//Kalender//
BEGIN:VEVENT
SUMMARY:Von Rostock nach Kiel - Segeltour auf der Ostsee
DTSTART:20260810T070000Z
DTEND:20260815T180000Z
DTSTAMP:20260422T025211Z
UID:event_ical_eventmanagement_1039
DESCRIPTION:Die Arbeitsstelle für Kinder- und Jugendpastoral lädt dich z
 u einer besonderen Sommerfahrt ein: 👉 Eine Segeltour auf der Ostsee! Au
 f unserem Schiff ist Platz für 16 Jugendliche\, die richtig was erleben w
 ollen. Du bist nicht nur Passagier – du wirst Teil der Crew! Das heißt:
  Segel setzen\, das Schiff steuern\, anpacken\, wenn’s drauf ankommt. 
 💪 Gemeinsam lernen wir\, wie man Wind und Wellen meistert – und wie w
 ichtig Teamgeist ist\, wenn man sich aufeinander verlassen muss. Neben dem
  Segeln legen wir jeden Tag in einer anderen Stadt an. Dort hast du die Ch
 ance\, spannende Orte zu entdecken und gemeinsam mit der Gruppe unvergessl
 iche Momente zu erleben. 📍 Start: Rostock 🏁 Ziel: Kiel Altersgruppe:
  ab 15 bis einschließlich 26 Jahre. Leitung: Julia Lehnert &amp\; Daniel 
 Richter 🚢 Dein Sommer. Dein Abenteuer. Dein Segeltörn!
END:VEVENT
END:VCALENDAR
