BEGIN:VCALENDAR
VERSION:2.0
PRODID:-//Kalender//
BEGIN:VEVENT
SUMMARY:Familienwochenende "Miteinander sprechen - verbindende Kommunikati
 on im Familienalltag"
DTSTART:20260918T160000Z
DTEND:20260920T110000Z
DTSTAMP:20260422T103741Z
UID:event_ical_eventmanagement_1046
DESCRIPTION:Herzlich eingeladen sind Familien zu einem interessanten Erfah
 rungsaustausch. Wir wollen gemeinsam thematisch arbeiten\, basteln\, singe
 n und spielen. Leitung:      Michaela Budik Kosten:       Kinder:
  2-6 Jahre 20 € Kind\;                     Kinder: 7-14 J
 ahre 35 € Kind\;                     Erwachsene: 70 
 € pro Person
LOCATION:St. Michaelshaus\, Am Leihdenberg 1\, 06618 Naumburg/Roßbach\, D
 eutschland
END:VEVENT
END:VCALENDAR
