BEGIN:VCALENDAR
VERSION:2.0
PRODID:-//Kalender//
BEGIN:VEVENT
SUMMARY:Kurs zur Erstkommunionvorbereitung "Dem Geheimnis auf der Spur" - 
  ABGESAGT 
DTSTART:20210209T150000Z
DTEND:20210214T110000Z
DTSTAMP:20260420T102602Z
UID:event_ical_eventmanagement_509
DESCRIPTION:Zur Ergänzung der gemeindlichen Vorbereitung sind Erstkommuni
 onkinder vom 9.2. bis 14.02.2021 nach Roßbach ins St. Michaelshaus eingel
 aden. Wir wollen uns in der Beziehung zu Jesus stärken und uns auf die Be
 gegnung mit ihm im heiligen Brot vorbereiten. Die Einladung gilt unter Vor
 behalt der öffentlichen Pandemie-Verordnung. Leitung: Matthias Slowik Kos
 ten: 65 €
LOCATION:St. Michaelshaus\, Am Leihdenberg 1\, 06618 Naumburg/Roßbach\, D
 eutschland
END:VEVENT
END:VCALENDAR
