BEGIN:VCALENDAR
VERSION:2.0
PRODID:-//Kalender//
BEGIN:VEVENT
SUMMARY:„Feldwaldundwiesenkurs“ – Outdoorwochenende 
DTSTART:20130705T170000Z
DTEND:20130707T113000Z
DTSTAMP:20260422T214309Z
UID:event_ical_kalender_12
DESCRIPTION:Alle\, die gern draußen sind\, werden an diesem Wochenende au
 f ihre Kosten kommen\, denn dieser Kurs findet komplett draußen statt –
  Aktivitäten\, Nahrungssuche\, Schlafen\, Techniken der Orientierung und 
 merken\, wie gut es tut\, der Zivilisation ein wenig zu entfliehen. Probie
 rt es aus!
LOCATION:Roßbach\, St. Michaelshaus
END:VEVENT
END:VCALENDAR
