BEGIN:VCALENDAR
VERSION:2.0
PRODID:-//Kalender//
BEGIN:VEVENT
SUMMARY:XXVIII. Weltjugendtag in Rio
DTSTART:20130712T220000Z
DTEND:20130802T220000Z
DTSTAMP:20260422T200451Z
UID:event_ical_kalender_17
DESCRIPTION:Papst Benedikt lädt ein zum XXVIII. Weltjugendtag nach Rio - 
 eine weite Reise\, die Besonderheiten mit sich bringt\, die teuer ist und 
 deswegen schon jetzt vorbereitet wird.\nDie Bistümer Erfurt und Magdeburg
  wollen in Rio als eine Weltjugendtagsgruppe auftreten und kooperieren in 
 der Vorbereitung und Durchführung. So beginnt das „Über-den-kirchliche
 n-Tellerrand-Schauen“ schon weit vor den eigentlichen Tagen in Brasilien
 . Das Bistum Magdeburg unterhält seit dem Weltjugendtag 2005 gute Kontakt
 e in das Bistum Caicó. Dorthin sind wir eingeladen - in eine arme Region 
 im Nordosten Brasiliens\, die uns noch einmal ein ganz anderes Bild dieses
  Landes zeigen wird als die große Metropole Rio.\nSei dabei und schließ 
 dich unserer Wallfahrt an\, lerne neue Menschen und ein neues Land kennen!
LOCATION:Rio de Janeiro
END:VEVENT
END:VCALENDAR
