BEGIN:VCALENDAR
VERSION:2.0
PRODID:-//Kalender//
BEGIN:VEVENT
SUMMARY:Erlebniswoche - die etwas andere Jugendfreizeit
DTSTART:20130721T220000Z
DTEND:20130727T220000Z
DTSTAMP:20260422T214341Z
UID:event_ical_kalender_18
DESCRIPTION:Du bist zwischen 14 und 18 Jahren alt und hast Freude an eine
 r aktiven Freizeitgestaltung? Dann sei in den Sommerferien herzlich einge
 laden zu einer Woche voller Spaß\, Herausforderung\, Natur- und Selbste
 rfahrung sowie interessanten Gemeinschaftserlebnissen.
LOCATION:Roßbach\, St. Michaelshaus
END:VEVENT
END:VCALENDAR
