BEGIN:VCALENDAR
VERSION:2.0
PRODID:-//Kalender//
BEGIN:VEVENT
SUMMARY:„connecting people“ - Europäische Jugendbegegnung im Bistum M
 agdeburg
DTSTART:20130803T220000Z
DTEND:20130817T220000Z
DTSTAMP:20260422T200404Z
UID:event_ical_kalender_19
DESCRIPTION:Spanier\, Deutsche\, Litauer - uns verbindet viel mehr als du 
 denkst! In diesem Jahr treffen wir uns quasi in der Mitte der teilnehmende
 n Nationen von jungen Europäern - das heißt konkret: bei uns! Wenn du mi
 t Gastgeber und zudem Teilnehmer bei einem zweiwöchigen Ferienprogramm vo
 ller Ideen und Aktionen sein möchtest\, dann melde dich schnell an! Auf d
 em Programm steht unter anderem: voneinander lernen\, übereinander staune
 n\, miteinander leben\, füreinander da sein\, aneinander wachsen…
LOCATION:Roßbach und weitere
END:VEVENT
END:VCALENDAR
