BEGIN:VCALENDAR
VERSION:2.0
PRODID:-//Kalender//
BEGIN:VEVENT
SUMMARY:Zirkus in Roßbach - Willkommen im Club – willkommen in der Mane
 ge (Club-Urlaub)
DTSTART:20130823T220000Z
DTEND:20130826T220000Z
DTSTAMP:20260422T220118Z
UID:event_ical_kalender_20
DESCRIPTION:Mit dem Namen Roncalli verbinden die einen einen großen Zirku
 s\, die anderen das Magdeburger Roncalli-Haus und wieder andere den große
 n Papst des Zweiten Vatikanischen Konzils. Wir wollen alles miteinander ve
 rbinden und laden dich so zum Cluburlaub herzlich ein. Am Samstag feiern w
 ir das legendäre Roßbachfest. Besser kann man die Sommerferien nicht bee
 nden. An- und Abreisen kannst du frei wählen\; der Teilnahmebeitrag von 8
  € berechnet sich pro Tag.
LOCATION:Roßbach\, St. Michaelshaus
END:VEVENT
END:VCALENDAR
