BEGIN:VCALENDAR
VERSION:2.0
PRODID:-//Kalender//
BEGIN:VEVENT
SUMMARY:Kinderwallfahrt
DTSTART:20130716T080000Z
DTEND:20130716T113000Z
DTSTAMP:20260422T214252Z
UID:event_ical_kalender_30
DESCRIPTION:Die diesjährigen Wallfahrten stehen unter dem Thema: "Wie die
  Finger an einer Hand: Wir gehören zusammen!" Anmeldungen werden bis zum 
 28. Juni 2013 an das zuständige Pfarramt des Wallfahrtsortes erbeten.
LOCATION:Salzwedel
END:VEVENT
END:VCALENDAR
