BEGIN:VCALENDAR
VERSION:2.0
PRODID:-//Kalender//
BEGIN:VEVENT
SUMMARY:Kinderwallfahrt
DTSTART:20130718T080000Z
DTEND:20130718T130000Z
DTSTAMP:20260422T214252Z
UID:event_ical_kalender_31
DESCRIPTION:Die diesjährigen Wallfahrten stehen unter dem Thema: "Wie die
  Finger an einer Hand: Wir gehören zusammen!" Anmeldungen werden bis zum 
 28. Juni 2013 an das zuständige Pfarramt des Wallfahrtsortes erbeten.
LOCATION:Roßbach\, St. Michaelshaus
END:VEVENT
END:VCALENDAR
