BEGIN:VCALENDAR
VERSION:2.0
PRODID:-//Kalender//
BEGIN:VEVENT
SUMMARY:Überregionale RKW "Wer glaubt\, ist nicht allein"
DTSTART:20130729T140000Z
DTEND:20130804T113000Z
DTSTAMP:20260422T200359Z
UID:event_ical_kalender_32
DESCRIPTION:Zur überregionalen RKW sind Kinder der 2.-8. Klasse eingelade
 n\, die an der RKW in der eigenen Pfarrei nicht teilnehmen können.\nLeitu
 ng: Matthias Slowik\, Andrea Salzmann\nKosten: 65 €\, Geschwisterkinder 
 55 €
LOCATION:Roßbach\, St. Michaelshaus
END:VEVENT
END:VCALENDAR
