BEGIN:VCALENDAR
VERSION:2.0
PRODID:-//Kalender//
BEGIN:VEVENT
SUMMARY:Familienwochenende "Mensch\, Papa\, macht Abba nicht Musik?"
DTSTART:20130920T170000Z
DTEND:20130922T113000Z
DTSTAMP:20260422T183113Z
UID:event_ical_kalender_33
DESCRIPTION:Leitung: Matthias Slowik\, Andrea Salzmann
LOCATION:Roßbach\, St. Michaelshaus
END:VEVENT
END:VCALENDAR
