BEGIN:VCALENDAR
VERSION:2.0
PRODID:-//Kalender//
BEGIN:VEVENT
SUMMARY:Eltern-Kind-Kegeln
DTSTART:20130701T220000Z
DTSTAMP:20260422T214110Z
UID:event_ical_kalender_36
DESCRIPTION:tba.
LOCATION:Don Bosco Kinder- und Jugendzentrum\, Magdeburg
END:VEVENT
END:VCALENDAR
