BEGIN:VCALENDAR
VERSION:2.0
PRODID:-//Kalender//
BEGIN:VEVENT
SUMMARY:Kinderfest zum 20-jährigen Bestehen des Don Bosco Kinder- und Jug
 endzentrums
DTSTART:20130706T220000Z
DTSTAMP:20260422T214208Z
UID:event_ical_kalender_37
DESCRIPTION:tba.
LOCATION:Don Bosco Kinder- und Jugendzentrum\, Magdeburg
END:VEVENT
END:VCALENDAR
