BEGIN:VCALENDAR
VERSION:2.0
PRODID:-//Kalender//
BEGIN:VEVENT
SUMMARY: Sommerferienprogramm Don Bosco Kinder- und Jugendzentrum
DTSTART:20130714T220000Z
DTEND:20130827T220000Z
DTSTAMP:20260422T200404Z
UID:event_ical_kalender_38
DESCRIPTION:Ab Donnerstag\, 18. Juli bis Sonntag\, 4. August 2013 bleibt d
 ie Einrichtung geschlossen wegen der Internationalen Jugendbegegnung mit J
 ugendlichen aus der Ukraine und Deutschland. Die Schließzeiten sin wie ob
 en angegeb\, die Jugendbegnung ist vom 20. bis 30. Juli. Wer Interesse hat
  und mitmachen möchte\, kann sich noch anmelden! Für die Woche vom 5. bi
 s 9. August 2013 gelten die normalen Öffnungszeiten! Von Montag\, 12. Aug
 ust bis Freitag\, 16. August 2013 ist die Einrichtung geschlossen wegen de
 r Kinder-Ferienwoche Wer noch gerne mitmachen will\, kann sich gleich im D
 on Bosco Zentrum anmelden! Von Montag\, 19. August bis Donnerstag\, 22. Au
 gust 2013 Öffnungszeiten wie gewohnt! Am Samstag\, 24. August 2013\, fahr
 en wir mit Jugendlichen ab 12 Jahre zum Roßbach-Fest nach Roßbach bei Na
 umburg/Saale. Näheres wird noch bekanntgegeben. Am Montag\, 26. August 20
 13\, ist für alle Kinder\, die beim Don Bosco Musical mitmachen\, ein Int
 ensiv-Tag im Don Bosco Zentrum. Extra-Einladungen werden noch rausgegeben.
LOCATION:Don Bosco Kinder- und Jugendzentrum\, Magdeburg
END:VEVENT
END:VCALENDAR
