BEGIN:VCALENDAR
VERSION:2.0
PRODID:-//Kalender//
BEGIN:VEVENT
SUMMARY:Eltern-Kind-Kegeln
DTSTART:20130902T220000Z
DTSTAMP:20260422T200451Z
UID:event_ical_kalender_39
DESCRIPTION:tba.
LOCATION:Don Bosco Kinder- und Jugendzentrum\, Magdeburg
END:VEVENT
END:VCALENDAR
