BEGIN:VCALENDAR
VERSION:2.0
PRODID:-//Kalender//
BEGIN:VEVENT
SUMMARY:Babybörse
DTSTART:20130905T220000Z
DTSTAMP:20260422T165330Z
UID:event_ical_kalender_40
DESCRIPTION:tba.
LOCATION:Don Bosco Kinder- und Jugendzentrum\, Magdeburg
END:VEVENT
END:VCALENDAR
