BEGIN:VCALENDAR
VERSION:2.0
PRODID:-//Kalender//
BEGIN:VEVENT
SUMMARY:Festwoche zum 20-jährigen Bestehen des Don Bosco Kinder- und Juge
 ndzentrums
DTSTART:20130914T170000Z
DTEND:20130920T220000Z
DTSTAMP:20260422T183441Z
UID:event_ical_kalender_41
DESCRIPTION:
LOCATION:Don Bosco Kinder- und Jugendzentrum\, Magdeburg
END:VEVENT
END:VCALENDAR
