BEGIN:VCALENDAR
VERSION:2.0
PRODID:-//Kalender//
BEGIN:VEVENT
SUMMARY:Prävention Kindeswohlgefährdung
DTSTART:20130713T080000Z
DTEND:20130713T160000Z
DTSTAMP:20260422T214110Z
UID:event_ical_kalender_49
DESCRIPTION:Die Ereignisse der Vergangenheit haben viele von uns erschütt
 ert. Sie werfen auch die Frage auf\, ob wir\, als Jugendverband gut aufges
 tellt sind\, wenn wir mit diesen Ereignissen konfrontiert werden. Um diese
  Frage mit „ja“ beantworten zu können haben wir uns entschlossen\, ei
 ne weitere Fortbildung zum Thema Kindeswohlprävention für die ehrenamtli
 chen Gruppenleiter und Gruppenleiterinnen anzubieten.\n\nBasiswissen\nRech
 tliche Grundlagen\nReflexion und Sensibilisierung\nPrävention\nInterventi
 on und Handeln\n\nAnmeldung online  möglich  oder für alle unter 18jä
 hrigen mit der  Ausschreibung .
LOCATION:Magdeburg
END:VEVENT
END:VCALENDAR
