BEGIN:VCALENDAR
VERSION:2.0
PRODID:-//Kalender//
BEGIN:VEVENT
SUMMARY:Malteser Jugend bei der Bistumswallfahrt 2013
DTSTART:20130831T130000Z
DTEND:20130901T160000Z
DTSTAMP:20260422T183125Z
UID:event_ical_kalender_50
DESCRIPTION:Am ersten September Wochenende sind wieder alle Helfer der Mal
 teser aus der gesamten Diözese zur jährlichen Bistumswallfahrt auf der H
 uysburg eingeladen. Bereits am Samstag beginnt dort die Vorbereitung für 
 die Wallfahrt am Sonntag\, an der rund 5000 Pilger aus Sachsen Anhalt teil
 nehmen. Und da gibt es eine Menge zu tun... Die Malteser Jugend wird wiede
 r\, hinter dem Wallfahrtshäuschen\, die Kinderbetreuung anbieten.
LOCATION:Huysburg
END:VEVENT
END:VCALENDAR
