BEGIN:VCALENDAR
VERSION:2.0
PRODID:-//Kalender//
BEGIN:VEVENT
SUMMARY:Internationale Begegnung
DTSTART:20130720T080000Z
DTEND:20130730T080000Z
DTSTAMP:20260422T200536Z
UID:event_ical_kalender_51
DESCRIPTION:Internationalen Jugendbegegnung mit Jugendlichen aus der Ukrai
 ne und Deutschland.
LOCATION:Don Bosco Zentrum
END:VEVENT
END:VCALENDAR
