BEGIN:VCALENDAR
VERSION:2.0
PRODID:-//Kalender//
BEGIN:VEVENT
SUMMARY:Kinderferienwoche
DTSTART:20130812T080000Z
DTEND:20130816T080000Z
DTSTAMP:20260422T200358Z
UID:event_ical_kalender_52
DESCRIPTION:Eingeladen sind alle Kinder zwischen 6 und 11 Jahren. Gemeinsa
 m wollen wir fünf Tage zusammen zelten. Wer mitmachen möchte\, meldet si
 ch bitte bei Sr. Lydia.
LOCATION:Don Bosco Zentrum
END:VEVENT
END:VCALENDAR
