BEGIN:VCALENDAR
VERSION:2.0
PRODID:-//Kalender//
BEGIN:VEVENT
SUMMARY:Zu Lande\, zu Wasser\, zu Luft
DTSTART:20130906T160000Z
DTEND:20130908T110000Z
DTSTAMP:20260422T182935Z
UID:event_ical_kalender_53
DESCRIPTION:Wochenende für Firmbewerber und andere Jugendliche Für alle 
 FirmbewerberInnen\, die im Januar in Roßbach schon dabei waren\, ist dies
  ein spannendes zusätzliches Angebot. Aber es sind alle Jugendlichen und 
 jungen Erwachsenen eingeladen.\nMit verschiedenen Möglichkeiten und Übun
 gen werden Wege zurückgelegt\, bei denen die Frage nach den eigenen Stand
 punkten\, Richtungs- und Zielsetzungen im Leben sichtbar werden können. I
 hr könnt vielleicht dabei euch selbst und eurem Glauben auf die Spur komm
 en und findet einen neuen Weg zu euch selbst.
LOCATION:Roßbach
END:VEVENT
END:VCALENDAR
