BEGIN:VCALENDAR
VERSION:2.0
PRODID:-//Kalender//
BEGIN:VEVENT
SUMMARY:„Ab auf die Wiese“  Volleyballturnier 
DTSTART:20130914T120000Z
DTEND:20130915T120000Z
DTSTAMP:20260422T183007Z
UID:event_ical_kalender_56
DESCRIPTION:Beim größten Volksfest in Sachsen- Anhalt - der Eisleber Wie
 se - laden wir euch ein zum Volleyballturnier. Anmeldungen über Michael H
 ofmann.
LOCATION:Eisleben
END:VEVENT
END:VCALENDAR
