BEGIN:VCALENDAR
VERSION:2.0
PRODID:-//Kalender//
BEGIN:VEVENT
SUMMARY:„MenschPapa\, macht Abba nicht Musik?“  Familienwochenende Kin
 derpastoral 
DTSTART:20130920T170000Z
DTEND:20130922T120000Z
DTSTAMP:20260422T183113Z
UID:event_ical_kalender_57
DESCRIPTION:Unter dem Thema „Mensch Papa\, macht Abba nicht Musik“ sin
 d Familien eingeladen\, vom 20.-22. September 2013 nach Rossbach ins St. M
 ichaelshaus zu kommen.\nDurch Namen und Bezeichnungen drücken sich versch
 iedene Aspekte wie Zugehörigkeit\, Aufgabe oder Funktion einer Beziehung 
 aus. Die Familien werden begleitet\, treffende Namen für ihr Verhältnis 
 und ihre Beziehung zu Gott zu finden.
LOCATION:Roßbach
END:VEVENT
END:VCALENDAR
